BEGIN:VCALENDAR
VERSION:2.0
PRODID:-//Office of Justice Programs//NONSGML Event Calendar//EN
BEGIN:VEVENT
UID:5199c76d-241a-4999-9ace-34f0cb5c431a
DTSTART;TZID=UTC:20250313T160000
SEQUENCE:0
TRANSP:OPAQUE
DTEND;TZID=UTC:20250313T170000
LOCATION:https://ojp.gov/events/ctas-open-office-hours-0
SUMMARY:CTAS Open Office Hours
CLASS:PUBLIC
DESCRIPTION:Learn more about this event: https://ojp.gov/events/ctas-open-o
 ffice-hours-0
DTSTAMP:20260420T021708Z
END:VEVENT
END:VCALENDAR