BEGIN:VCALENDAR
VERSION:2.0
PRODID:-//Office of Justice Programs//NONSGML Event Calendar//EN
BEGIN:VEVENT
UID:f9d921dc-6759-41bf-a4f0-67fce6850ef4
DTSTART;TZID=UTC:20250306T180000
SEQUENCE:0
TRANSP:OPAQUE
DTEND;TZID=UTC:20250306T190000
LOCATION:https://www.ojp.gov/events/ctas-budget-worksheet-completion
SUMMARY:CTAS Budget Worksheet Completion
CLASS:PUBLIC
DESCRIPTION:Learn more about this event: https://www.ojp.gov/events/ctas-bu
 dget-worksheet-completion
DTSTAMP:20260410T064640Z
END:VEVENT
END:VCALENDAR